BEGIN:VCALENDAR
VERSION:2.0
PRODID:-//Le Belvédère de Saint-Benoît-sur-Loire - ECPv6.15.20//NONSGML v1.0//EN
CALSCALE:GREGORIAN
METHOD:PUBLISH
X-ORIGINAL-URL:https://belvedere-valdesully.fr
X-WR-CALDESC:Évènements pour Le Belvédère de Saint-Benoît-sur-Loire
REFRESH-INTERVAL;VALUE=DURATION:PT1H
X-Robots-Tag:noindex
X-PUBLISHED-TTL:PT1H
BEGIN:VTIMEZONE
TZID:Europe/Paris
BEGIN:DAYLIGHT
TZOFFSETFROM:+0100
TZOFFSETTO:+0200
TZNAME:CEST
DTSTART:20250330T010000
END:DAYLIGHT
BEGIN:STANDARD
TZOFFSETFROM:+0200
TZOFFSETTO:+0100
TZNAME:CET
DTSTART:20251026T010000
END:STANDARD
BEGIN:DAYLIGHT
TZOFFSETFROM:+0100
TZOFFSETTO:+0200
TZNAME:CEST
DTSTART:20260329T010000
END:DAYLIGHT
BEGIN:STANDARD
TZOFFSETFROM:+0200
TZOFFSETTO:+0100
TZNAME:CET
DTSTART:20261025T010000
END:STANDARD
BEGIN:DAYLIGHT
TZOFFSETFROM:+0100
TZOFFSETTO:+0200
TZNAME:CEST
DTSTART:20270328T010000
END:DAYLIGHT
BEGIN:STANDARD
TZOFFSETFROM:+0200
TZOFFSETTO:+0100
TZNAME:CET
DTSTART:20271031T010000
END:STANDARD
END:VTIMEZONE
BEGIN:VEVENT
DTSTART;TZID=Europe/Paris:20260919T100000
DTEND;TZID=Europe/Paris:20261115T173000
DTSTAMP:20260422T205813
CREATED:20260114T094759Z
LAST-MODIFIED:20260114T094914Z
UID:9481-1789812000-1794763800@belvedere-valdesully.fr
SUMMARY:Exposition Matières de Patrimoine : l’art de bâtir en région Centre du Moyen Âge à nos jours
DESCRIPTION:8 mars 2026\n\n	\n\n	  |  \n\n\n10h30\n\n		\n\n\n\n	\n	  -  \n\n12h00\n\n\n\n	\n				\n				\n				\n				\n					\n		\n		Patrimoine\, Saint-Benoît-sur-Loire\, Visite guidée	\n\n				\n				\n				\n				\n					\n	\n				\n				\n				\n							\n			\n		\n						\n				\n									Visite guidée Sur les pas de Max Jacob Dimanche 8 mars\, à 10h30 Arpentez le village à la découverte des lieux que le poète a fréquenté à Saint-Benoît-sur-Loire au début du 20e siècle : l’ancien bureau de poste\, le presbytère\, le château des Chevrières… Tarif : 6 €  (entrée Belvédère incluse) Réservation recommandée. 								\n				\n				\n					\n	\n		\n\n	\n	Ajouter au calendrier	\n		\n	\n\n		\n			\n									\n	Google Agenda\n\n									\n	iCalendar\n\n									\n	Outlook 365\n\n									\n	Outlook Live\n\n							\n		\n\n		\n	\n\n				\n				\n					\n		\n				\n			\n						\n							\n			\n		\n						\n				\n					\n\n\n				\n				\n							\n			\n		\n						\n				\n				\n					\n	\n		\n\n				Maurice et Eudes de Sully\, solognots et bâtisseurs de Notre-Dame de Paris	\n\n\n		\n	\n		[COMPLET] Conférence Le quotidien des Carolingiens
URL:https://belvedere-valdesully.fr/evenement/exposition-matieres-de-patrimoine-lart-de-batir-en-region-centre-du-moyen-age-a-nos-jours/
CATEGORIES:Exposition,Patrimoine
ATTACH;FMTTYPE=image/jpeg:https://belvedere-valdesully.fr/wp-content/uploads/2026/01/Matieres.jpg
END:VEVENT
BEGIN:VEVENT
DTSTART;TZID=Europe/Paris:20261018T100000
DTEND;TZID=Europe/Paris:20261018T173000
DTSTAMP:20260422T205813
CREATED:20260114T095937Z
LAST-MODIFIED:20260221T090810Z
UID:9495-1792317600-1792344600@belvedere-valdesully.fr
SUMMARY:Visite guidée de l'église Saint-Germain
DESCRIPTION:8 mars 2026\n\n	\n\n	  |  \n\n\n10h30\n\n		\n\n\n\n	\n	  -  \n\n12h00\n\n\n\n	\n				\n				\n				\n				\n					\n		\n		Patrimoine\, Saint-Benoît-sur-Loire\, Visite guidée	\n\n				\n				\n				\n				\n					\n	\n				\n				\n				\n							\n			\n		\n						\n				\n									Visite guidée Sur les pas de Max Jacob Dimanche 8 mars\, à 10h30 Arpentez le village à la découverte des lieux que le poète a fréquenté à Saint-Benoît-sur-Loire au début du 20e siècle : l’ancien bureau de poste\, le presbytère\, le château des Chevrières… Tarif : 6 €  (entrée Belvédère incluse) Réservation recommandée. 								\n				\n				\n					\n	\n		\n\n	\n	Ajouter au calendrier	\n		\n	\n\n		\n			\n									\n	Google Agenda\n\n									\n	iCalendar\n\n									\n	Outlook 365\n\n									\n	Outlook Live\n\n							\n		\n\n		\n	\n\n				\n				\n					\n		\n				\n			\n						\n							\n			\n		\n						\n				\n					\n\n\n				\n				\n							\n			\n		\n						\n				\n				\n					\n	\n		\n\n				Maurice et Eudes de Sully\, solognots et bâtisseurs de Notre-Dame de Paris	\n\n\n		\n	\n		[COMPLET] Conférence Le quotidien des Carolingiens
URL:https://belvedere-valdesully.fr/evenement/visite-guidee-de-leglise-saint-germain-a-sully-sur-loire/
CATEGORIES:Conférence,Événement,Patrimoine,Visite guidée
ATTACH;FMTTYPE=image/jpeg:https://belvedere-valdesully.fr/wp-content/uploads/2026/01/st_germain_45.jpg
END:VEVENT
BEGIN:VEVENT
DTSTART;TZID=Europe/Paris:20261018T100000
DTEND;TZID=Europe/Paris:20261018T173000
DTSTAMP:20260422T205813
CREATED:20260114T105400Z
LAST-MODIFIED:20260114T140547Z
UID:9519-1792317600-1792344600@belvedere-valdesully.fr
SUMMARY:Journée Nationale de l'Architecture
DESCRIPTION:8 mars 2026\n\n	\n\n	  |  \n\n\n10h30\n\n		\n\n\n\n	\n	  -  \n\n12h00\n\n\n\n	\n				\n				\n				\n				\n					\n		\n		Patrimoine\, Saint-Benoît-sur-Loire\, Visite guidée	\n\n				\n				\n				\n				\n					\n	\n				\n				\n				\n							\n			\n		\n						\n				\n									Visite guidée Sur les pas de Max Jacob Dimanche 8 mars\, à 10h30 Arpentez le village à la découverte des lieux que le poète a fréquenté à Saint-Benoît-sur-Loire au début du 20e siècle : l’ancien bureau de poste\, le presbytère\, le château des Chevrières… Tarif : 6 €  (entrée Belvédère incluse) Réservation recommandée. 								\n				\n				\n					\n	\n		\n\n	\n	Ajouter au calendrier	\n		\n	\n\n		\n			\n									\n	Google Agenda\n\n									\n	iCalendar\n\n									\n	Outlook 365\n\n									\n	Outlook Live\n\n							\n		\n\n		\n	\n\n				\n				\n					\n		\n				\n			\n						\n							\n			\n		\n						\n				\n					\n\n\n				\n				\n							\n			\n		\n						\n				\n				\n					\n	\n		\n\n				Maurice et Eudes de Sully\, solognots et bâtisseurs de Notre-Dame de Paris	\n\n\n		\n	\n		[COMPLET] Conférence Le quotidien des Carolingiens
URL:https://belvedere-valdesully.fr/evenement/journee-nationale-de-larchitecture/
CATEGORIES:Conférence,Événement,Exposition,Patrimoine,Visite Insolite
ATTACH;FMTTYPE=image/jpeg:https://belvedere-valdesully.fr/wp-content/uploads/2026/01/IMG_20251218_103316707_HDR2-scaled.jpg
END:VEVENT
BEGIN:VEVENT
DTSTART;TZID=Europe/Paris:20261018T153000
DTEND;TZID=Europe/Paris:20261018T170000
DTSTAMP:20260422T205813
CREATED:20260114T102640Z
LAST-MODIFIED:20260221T090754Z
UID:9511-1792337400-1792342800@belvedere-valdesully.fr
SUMMARY:Promenade urbaine sur l’architecture des années 1900 à Sully-sur-Loire
DESCRIPTION:8 mars 2026\n\n	\n\n	  |  \n\n\n10h30\n\n		\n\n\n\n	\n	  -  \n\n12h00\n\n\n\n	\n				\n				\n				\n				\n					\n		\n		Patrimoine\, Saint-Benoît-sur-Loire\, Visite guidée	\n\n				\n				\n				\n				\n					\n	\n				\n				\n				\n							\n			\n		\n						\n				\n									Visite guidée Sur les pas de Max Jacob Dimanche 8 mars\, à 10h30 Arpentez le village à la découverte des lieux que le poète a fréquenté à Saint-Benoît-sur-Loire au début du 20e siècle : l’ancien bureau de poste\, le presbytère\, le château des Chevrières… Tarif : 6 €  (entrée Belvédère incluse) Réservation recommandée. 								\n				\n				\n					\n	\n		\n\n	\n	Ajouter au calendrier	\n		\n	\n\n		\n			\n									\n	Google Agenda\n\n									\n	iCalendar\n\n									\n	Outlook 365\n\n									\n	Outlook Live\n\n							\n		\n\n		\n	\n\n				\n				\n					\n		\n				\n			\n						\n							\n			\n		\n						\n				\n					\n\n\n				\n				\n							\n			\n		\n						\n				\n				\n					\n	\n		\n\n				Maurice et Eudes de Sully\, solognots et bâtisseurs de Notre-Dame de Paris	\n\n\n		\n	\n		[COMPLET] Conférence Le quotidien des Carolingiens
URL:https://belvedere-valdesully.fr/evenement/promenade-urbaine-sur-larchitecture-des-annees-1900-a-sully-sur-loire/
CATEGORIES:Événement,Patrimoine,Visite guidée
ATTACH;FMTTYPE=image/jpeg:https://belvedere-valdesully.fr/wp-content/uploads/2026/01/37-Maison-rue-jules-ferry-@Guillaume-Payen.jpg
END:VEVENT
BEGIN:VEVENT
DTSTART;TZID=Europe/Paris:20261021T143000
DTEND;TZID=Europe/Paris:20261021T163000
DTSTAMP:20260422T205813
CREATED:20260114T112941Z
LAST-MODIFIED:20260221T090736Z
UID:9538-1792593000-1792600200@belvedere-valdesully.fr
SUMMARY:Atelier Archi ludique
DESCRIPTION:8 mars 2026\n\n	\n\n	  |  \n\n\n10h30\n\n		\n\n\n\n	\n	  -  \n\n12h00\n\n\n\n	\n				\n				\n				\n				\n					\n		\n		Patrimoine\, Saint-Benoît-sur-Loire\, Visite guidée	\n\n				\n				\n				\n				\n					\n	\n				\n				\n				\n							\n			\n		\n						\n				\n									Visite guidée Sur les pas de Max Jacob Dimanche 8 mars\, à 10h30 Arpentez le village à la découverte des lieux que le poète a fréquenté à Saint-Benoît-sur-Loire au début du 20e siècle : l’ancien bureau de poste\, le presbytère\, le château des Chevrières… Tarif : 6 €  (entrée Belvédère incluse) Réservation recommandée. 								\n				\n				\n					\n	\n		\n\n	\n	Ajouter au calendrier	\n		\n	\n\n		\n			\n									\n	Google Agenda\n\n									\n	iCalendar\n\n									\n	Outlook 365\n\n									\n	Outlook Live\n\n							\n		\n\n		\n	\n\n				\n				\n					\n		\n				\n			\n						\n							\n			\n		\n						\n				\n					\n\n\n				\n				\n							\n			\n		\n						\n				\n				\n					\n	\n		\n\n				Maurice et Eudes de Sully\, solognots et bâtisseurs de Notre-Dame de Paris	\n\n\n		\n	\n		[COMPLET] Conférence Le quotidien des Carolingiens
URL:https://belvedere-valdesully.fr/evenement/atelier-archi-ludique/
CATEGORIES:Atelier,Famille,Jeune public
ATTACH;FMTTYPE=image/jpeg:https://belvedere-valdesully.fr/wp-content/uploads/2026/01/Facade-de-ta-maison_CAUE-Loiret.jpg
END:VEVENT
BEGIN:VEVENT
DTSTART;TZID=Europe/Paris:20261022T143000
DTEND;TZID=Europe/Paris:20261022T163000
DTSTAMP:20260422T205813
CREATED:20260114T131605Z
LAST-MODIFIED:20260221T090719Z
UID:9548-1792679400-1792686600@belvedere-valdesully.fr
SUMMARY:Atelier Archi ludique
DESCRIPTION:8 mars 2026\n\n	\n\n	  |  \n\n\n10h30\n\n		\n\n\n\n	\n	  -  \n\n12h00\n\n\n\n	\n				\n				\n				\n				\n					\n		\n		Patrimoine\, Saint-Benoît-sur-Loire\, Visite guidée	\n\n				\n				\n				\n				\n					\n	\n				\n				\n				\n							\n			\n		\n						\n				\n									Visite guidée Sur les pas de Max Jacob Dimanche 8 mars\, à 10h30 Arpentez le village à la découverte des lieux que le poète a fréquenté à Saint-Benoît-sur-Loire au début du 20e siècle : l’ancien bureau de poste\, le presbytère\, le château des Chevrières… Tarif : 6 €  (entrée Belvédère incluse) Réservation recommandée. 								\n				\n				\n					\n	\n		\n\n	\n	Ajouter au calendrier	\n		\n	\n\n		\n			\n									\n	Google Agenda\n\n									\n	iCalendar\n\n									\n	Outlook 365\n\n									\n	Outlook Live\n\n							\n		\n\n		\n	\n\n				\n				\n					\n		\n				\n			\n						\n							\n			\n		\n						\n				\n					\n\n\n				\n				\n							\n			\n		\n						\n				\n				\n					\n	\n		\n\n				Maurice et Eudes de Sully\, solognots et bâtisseurs de Notre-Dame de Paris	\n\n\n		\n	\n		[COMPLET] Conférence Le quotidien des Carolingiens
URL:https://belvedere-valdesully.fr/evenement/atelier-archi-ludique-2/
CATEGORIES:Atelier,Famille,Jeune public
ATTACH;FMTTYPE=image/jpeg:https://belvedere-valdesully.fr/wp-content/uploads/2026/01/Ville-ideale_CAUE-Loiret.jpg
END:VEVENT
BEGIN:VEVENT
DTSTART;TZID=Europe/Paris:20261025T150000
DTEND;TZID=Europe/Paris:20261025T170000
DTSTAMP:20260422T205813
CREATED:20260114T132612Z
LAST-MODIFIED:20260221T090703Z
UID:9557-1792940400-1792947600@belvedere-valdesully.fr
SUMMARY:Visite de cimetière : Saint-Aignan-des-Gués
DESCRIPTION:8 mars 2026\n\n	\n\n	  |  \n\n\n10h30\n\n		\n\n\n\n	\n	  -  \n\n12h00\n\n\n\n	\n				\n				\n				\n				\n					\n		\n		Patrimoine\, Saint-Benoît-sur-Loire\, Visite guidée	\n\n				\n				\n				\n				\n					\n	\n				\n				\n				\n							\n			\n		\n						\n				\n									Visite guidée Sur les pas de Max Jacob Dimanche 8 mars\, à 10h30 Arpentez le village à la découverte des lieux que le poète a fréquenté à Saint-Benoît-sur-Loire au début du 20e siècle : l’ancien bureau de poste\, le presbytère\, le château des Chevrières… Tarif : 6 €  (entrée Belvédère incluse) Réservation recommandée. 								\n				\n				\n					\n	\n		\n\n	\n	Ajouter au calendrier	\n		\n	\n\n		\n			\n									\n	Google Agenda\n\n									\n	iCalendar\n\n									\n	Outlook 365\n\n									\n	Outlook Live\n\n							\n		\n\n		\n	\n\n				\n				\n					\n		\n				\n			\n						\n							\n			\n		\n						\n				\n					\n\n\n				\n				\n							\n			\n		\n						\n				\n				\n					\n	\n		\n\n				Maurice et Eudes de Sully\, solognots et bâtisseurs de Notre-Dame de Paris	\n\n\n		\n	\n		[COMPLET] Conférence Le quotidien des Carolingiens
URL:https://belvedere-valdesully.fr/evenement/visite-de-cimetiere-saint-aignan-des-gues/
CATEGORIES:Patrimoine,Visite guidée
ATTACH;FMTTYPE=image/jpeg:https://belvedere-valdesully.fr/wp-content/uploads/2026/01/aignan.jpg
END:VEVENT
BEGIN:VEVENT
DTSTART;TZID=Europe/Paris:20261029T143000
DTEND;TZID=Europe/Paris:20261029T163000
DTSTAMP:20260422T205813
CREATED:20260114T134545Z
LAST-MODIFIED:20260116T104037Z
UID:9568-1793284200-1793291400@belvedere-valdesully.fr
SUMMARY:Atelier P'tits mosaïstes
DESCRIPTION:8 mars 2026\n\n	\n\n	  |  \n\n\n10h30\n\n		\n\n\n\n	\n	  -  \n\n12h00\n\n\n\n	\n				\n				\n				\n				\n					\n		\n		Patrimoine\, Saint-Benoît-sur-Loire\, Visite guidée	\n\n				\n				\n				\n				\n					\n	\n				\n				\n				\n							\n			\n		\n						\n				\n									Visite guidée Sur les pas de Max Jacob Dimanche 8 mars\, à 10h30 Arpentez le village à la découverte des lieux que le poète a fréquenté à Saint-Benoît-sur-Loire au début du 20e siècle : l’ancien bureau de poste\, le presbytère\, le château des Chevrières… Tarif : 6 €  (entrée Belvédère incluse) Réservation recommandée. 								\n				\n				\n					\n	\n		\n\n	\n	Ajouter au calendrier	\n		\n	\n\n		\n			\n									\n	Google Agenda\n\n									\n	iCalendar\n\n									\n	Outlook 365\n\n									\n	Outlook Live\n\n							\n		\n\n		\n	\n\n				\n				\n					\n		\n				\n			\n						\n							\n			\n		\n						\n				\n					\n\n\n				\n				\n							\n			\n		\n						\n				\n				\n					\n	\n		\n\n				Maurice et Eudes de Sully\, solognots et bâtisseurs de Notre-Dame de Paris	\n\n\n		\n	\n		[COMPLET] Conférence Le quotidien des Carolingiens
URL:https://belvedere-valdesully.fr/evenement/atelier-ptits-mosaistes-3/
CATEGORIES:Atelier,Famille,Jeune public
ATTACH;FMTTYPE=image/jpeg:https://belvedere-valdesully.fr/wp-content/uploads/2025/12/Atelier-mosaique-St-Benoit-sur-Loire©Ludovic-LETOT-56-scaled.jpg
END:VEVENT
BEGIN:VEVENT
DTSTART;TZID=Europe/Paris:20261030T143000
DTEND;TZID=Europe/Paris:20261030T163000
DTSTAMP:20260422T205813
CREATED:20260114T140242Z
LAST-MODIFIED:20260221T090609Z
UID:9576-1793370600-1793377800@belvedere-valdesully.fr
SUMMARY:Atelier Chauve qui peut !
DESCRIPTION:8 mars 2026\n\n	\n\n	  |  \n\n\n10h30\n\n		\n\n\n\n	\n	  -  \n\n12h00\n\n\n\n	\n				\n				\n				\n				\n					\n		\n		Patrimoine\, Saint-Benoît-sur-Loire\, Visite guidée	\n\n				\n				\n				\n				\n					\n	\n				\n				\n				\n							\n			\n		\n						\n				\n									Visite guidée Sur les pas de Max Jacob Dimanche 8 mars\, à 10h30 Arpentez le village à la découverte des lieux que le poète a fréquenté à Saint-Benoît-sur-Loire au début du 20e siècle : l’ancien bureau de poste\, le presbytère\, le château des Chevrières… Tarif : 6 €  (entrée Belvédère incluse) Réservation recommandée. 								\n				\n				\n					\n	\n		\n\n	\n	Ajouter au calendrier	\n		\n	\n\n		\n			\n									\n	Google Agenda\n\n									\n	iCalendar\n\n									\n	Outlook 365\n\n									\n	Outlook Live\n\n							\n		\n\n		\n	\n\n				\n				\n					\n		\n				\n			\n						\n							\n			\n		\n						\n				\n					\n\n\n				\n				\n							\n			\n		\n						\n				\n				\n					\n	\n		\n\n				Maurice et Eudes de Sully\, solognots et bâtisseurs de Notre-Dame de Paris	\n\n\n		\n	\n		[COMPLET] Conférence Le quotidien des Carolingiens
URL:https://belvedere-valdesully.fr/evenement/atelier-chauve-qui-peut/
CATEGORIES:Atelier,Famille,Jeune public
ATTACH;FMTTYPE=image/jpeg:https://belvedere-valdesully.fr/wp-content/uploads/2026/01/492504937_1243177424477169_937010925274490550_n.jpg
END:VEVENT
END:VCALENDAR