BEGIN:VCALENDAR
VERSION:2.0
PRODID:-//Le Belvédère de Saint-Benoît-sur-Loire - ECPv6.15.20//NONSGML v1.0//EN
CALSCALE:GREGORIAN
METHOD:PUBLISH
X-WR-CALNAME:Le Belvédère de Saint-Benoît-sur-Loire
X-ORIGINAL-URL:https://belvedere-valdesully.fr
X-WR-CALDESC:Évènements pour Le Belvédère de Saint-Benoît-sur-Loire
REFRESH-INTERVAL;VALUE=DURATION:PT1H
X-Robots-Tag:noindex
X-PUBLISHED-TTL:PT1H
BEGIN:VTIMEZONE
TZID:Europe/Paris
BEGIN:DAYLIGHT
TZOFFSETFROM:+0100
TZOFFSETTO:+0200
TZNAME:CEST
DTSTART:20250330T010000
END:DAYLIGHT
BEGIN:STANDARD
TZOFFSETFROM:+0200
TZOFFSETTO:+0100
TZNAME:CET
DTSTART:20251026T010000
END:STANDARD
BEGIN:DAYLIGHT
TZOFFSETFROM:+0100
TZOFFSETTO:+0200
TZNAME:CEST
DTSTART:20260329T010000
END:DAYLIGHT
BEGIN:STANDARD
TZOFFSETFROM:+0200
TZOFFSETTO:+0100
TZNAME:CET
DTSTART:20261025T010000
END:STANDARD
BEGIN:DAYLIGHT
TZOFFSETFROM:+0100
TZOFFSETTO:+0200
TZNAME:CEST
DTSTART:20270328T010000
END:DAYLIGHT
BEGIN:STANDARD
TZOFFSETFROM:+0200
TZOFFSETTO:+0100
TZNAME:CET
DTSTART:20271031T010000
END:STANDARD
END:VTIMEZONE
BEGIN:VEVENT
DTSTART;VALUE=DATE:20260614
DTEND;VALUE=DATE:20260720
DTSTAMP:20260422T160058
CREATED:20260112T163029Z
LAST-MODIFIED:20260112T163152Z
UID:9356-1781395200-1784505599@belvedere-valdesully.fr
SUMMARY:Exposition temporaire Regards croisés\, du Val de Sully à Orléans
DESCRIPTION:8 mars 2026\n\n	\n\n	  |  \n\n\n10h30\n\n		\n\n\n\n	\n	  -  \n\n12h00\n\n\n\n	\n				\n				\n				\n				\n					\n		\n		Patrimoine\, Saint-Benoît-sur-Loire\, Visite guidée	\n\n				\n				\n				\n				\n					\n	\n				\n				\n				\n							\n			\n		\n						\n				\n									Visite guidée Sur les pas de Max Jacob Dimanche 8 mars\, à 10h30 Arpentez le village à la découverte des lieux que le poète a fréquenté à Saint-Benoît-sur-Loire au début du 20e siècle : l’ancien bureau de poste\, le presbytère\, le château des Chevrières… Tarif : 6 €  (entrée Belvédère incluse) Réservation recommandée. 								\n				\n				\n					\n	\n		\n\n	\n	Ajouter au calendrier	\n		\n	\n\n		\n			\n									\n	Google Agenda\n\n									\n	iCalendar\n\n									\n	Outlook 365\n\n									\n	Outlook Live\n\n							\n		\n\n		\n	\n\n				\n				\n					\n		\n				\n			\n						\n							\n			\n		\n						\n				\n					\n\n\n				\n				\n							\n			\n		\n						\n				\n				\n					\n	\n		\n\n				Maurice et Eudes de Sully\, solognots et bâtisseurs de Notre-Dame de Paris	\n\n\n		\n	\n		[COMPLET] Conférence Le quotidien des Carolingiens
URL:https://belvedere-valdesully.fr/evenement/exposition-temporaire-regards-croises-du-val-de-sully-a-orleans/
CATEGORIES:Exposition,Patrimoine
ATTACH;FMTTYPE=image/jpeg:https://belvedere-valdesully.fr/wp-content/uploads/2026/01/IMG-20251126-WA0003.jpg
END:VEVENT
BEGIN:VEVENT
DTSTART;TZID=Europe/Paris:20260703T183000
DTEND;TZID=Europe/Paris:20260703T193000
DTSTAMP:20260422T160059
CREATED:20260113T095617Z
LAST-MODIFIED:20260221T091146Z
UID:9383-1783103400-1783107000@belvedere-valdesully.fr
SUMMARY:Conférence Entre science et religion : astrologie et magie au Moyen Âge
DESCRIPTION:8 mars 2026\n\n	\n\n	  |  \n\n\n10h30\n\n		\n\n\n\n	\n	  -  \n\n12h00\n\n\n\n	\n				\n				\n				\n				\n					\n		\n		Patrimoine\, Saint-Benoît-sur-Loire\, Visite guidée	\n\n				\n				\n				\n				\n					\n	\n				\n				\n				\n							\n			\n		\n						\n				\n									Visite guidée Sur les pas de Max Jacob Dimanche 8 mars\, à 10h30 Arpentez le village à la découverte des lieux que le poète a fréquenté à Saint-Benoît-sur-Loire au début du 20e siècle : l’ancien bureau de poste\, le presbytère\, le château des Chevrières… Tarif : 6 €  (entrée Belvédère incluse) Réservation recommandée. 								\n				\n				\n					\n	\n		\n\n	\n	Ajouter au calendrier	\n		\n	\n\n		\n			\n									\n	Google Agenda\n\n									\n	iCalendar\n\n									\n	Outlook 365\n\n									\n	Outlook Live\n\n							\n		\n\n		\n	\n\n				\n				\n					\n		\n				\n			\n						\n							\n			\n		\n						\n				\n					\n\n\n				\n				\n							\n			\n		\n						\n				\n				\n					\n	\n		\n\n				Maurice et Eudes de Sully\, solognots et bâtisseurs de Notre-Dame de Paris	\n\n\n		\n	\n		[COMPLET] Conférence Le quotidien des Carolingiens
URL:https://belvedere-valdesully.fr/evenement/conference-entre-science-et-religion-astrologie-et-magie-au-moyen-age/
CATEGORIES:Adultes,Conférence,Place aux Étoiles !
ATTACH;FMTTYPE=image/jpeg:https://belvedere-valdesully.fr/wp-content/uploads/2026/01/conference-magie.jpg
END:VEVENT
BEGIN:VEVENT
DTSTART;TZID=Europe/Paris:20260708T103000
DTEND;TZID=Europe/Paris:20260708T113000
DTSTAMP:20260422T160059
CREATED:20260113T103503Z
LAST-MODIFIED:20260221T091125Z
UID:9392-1783506600-1783510200@belvedere-valdesully.fr
SUMMARY:Café perché
DESCRIPTION:8 mars 2026\n\n	\n\n	  |  \n\n\n10h30\n\n		\n\n\n\n	\n	  -  \n\n12h00\n\n\n\n	\n				\n				\n				\n				\n					\n		\n		Patrimoine\, Saint-Benoît-sur-Loire\, Visite guidée	\n\n				\n				\n				\n				\n					\n	\n				\n				\n				\n							\n			\n		\n						\n				\n									Visite guidée Sur les pas de Max Jacob Dimanche 8 mars\, à 10h30 Arpentez le village à la découverte des lieux que le poète a fréquenté à Saint-Benoît-sur-Loire au début du 20e siècle : l’ancien bureau de poste\, le presbytère\, le château des Chevrières… Tarif : 6 €  (entrée Belvédère incluse) Réservation recommandée. 								\n				\n				\n					\n	\n		\n\n	\n	Ajouter au calendrier	\n		\n	\n\n		\n			\n									\n	Google Agenda\n\n									\n	iCalendar\n\n									\n	Outlook 365\n\n									\n	Outlook Live\n\n							\n		\n\n		\n	\n\n				\n				\n					\n		\n				\n			\n						\n							\n			\n		\n						\n				\n					\n\n\n				\n				\n							\n			\n		\n						\n				\n				\n					\n	\n		\n\n				Maurice et Eudes de Sully\, solognots et bâtisseurs de Notre-Dame de Paris	\n\n\n		\n	\n		[COMPLET] Conférence Le quotidien des Carolingiens
URL:https://belvedere-valdesully.fr/evenement/cafe-perche/
CATEGORIES:Adultes,Famille,Insolite
ATTACH;FMTTYPE=image/jpeg:https://belvedere-valdesully.fr/wp-content/uploads/2026/01/pexels-jayoke-851555-scaled.jpg
END:VEVENT
BEGIN:VEVENT
DTSTART;TZID=Europe/Paris:20260709T100000
DTEND;TZID=Europe/Paris:20260709T130000
DTSTAMP:20260422T160059
CREATED:20260113T125843Z
LAST-MODIFIED:20260221T091107Z
UID:9405-1783591200-1783602000@belvedere-valdesully.fr
SUMMARY:Fabrication de nichoirs à chauve-souris
DESCRIPTION:8 mars 2026\n\n	\n\n	  |  \n\n\n10h30\n\n		\n\n\n\n	\n	  -  \n\n12h00\n\n\n\n	\n				\n				\n				\n				\n					\n		\n		Patrimoine\, Saint-Benoît-sur-Loire\, Visite guidée	\n\n				\n				\n				\n				\n					\n	\n				\n				\n				\n							\n			\n		\n						\n				\n									Visite guidée Sur les pas de Max Jacob Dimanche 8 mars\, à 10h30 Arpentez le village à la découverte des lieux que le poète a fréquenté à Saint-Benoît-sur-Loire au début du 20e siècle : l’ancien bureau de poste\, le presbytère\, le château des Chevrières… Tarif : 6 €  (entrée Belvédère incluse) Réservation recommandée. 								\n				\n				\n					\n	\n		\n\n	\n	Ajouter au calendrier	\n		\n	\n\n		\n			\n									\n	Google Agenda\n\n									\n	iCalendar\n\n									\n	Outlook 365\n\n									\n	Outlook Live\n\n							\n		\n\n		\n	\n\n				\n				\n					\n		\n				\n			\n						\n							\n			\n		\n						\n				\n					\n\n\n				\n				\n							\n			\n		\n						\n				\n				\n					\n	\n		\n\n				Maurice et Eudes de Sully\, solognots et bâtisseurs de Notre-Dame de Paris	\n\n\n		\n	\n		[COMPLET] Conférence Le quotidien des Carolingiens
URL:https://belvedere-valdesully.fr/evenement/fabrication-de-nichoirs-a-chauve-souris/
CATEGORIES:Atelier,Famille,Place aux Étoiles !
ATTACH;FMTTYPE=image/jpeg:https://belvedere-valdesully.fr/wp-content/uploads/2026/01/nichoir-chauve-souris.jpg
END:VEVENT
BEGIN:VEVENT
DTSTART;TZID=Europe/Paris:20260709T103000
DTEND;TZID=Europe/Paris:20260709T120000
DTSTAMP:20260422T160059
CREATED:20260114T144153Z
LAST-MODIFIED:20260221T091048Z
UID:9629-1783593000-1783598400@belvedere-valdesully.fr
SUMMARY:Découverte de la Petite Cité de Caractère
DESCRIPTION:8 mars 2026\n\n	\n\n	  |  \n\n\n10h30\n\n		\n\n\n\n	\n	  -  \n\n12h00\n\n\n\n	\n				\n				\n				\n				\n					\n		\n		Patrimoine\, Saint-Benoît-sur-Loire\, Visite guidée	\n\n				\n				\n				\n				\n					\n	\n				\n				\n				\n							\n			\n		\n						\n				\n									Visite guidée Sur les pas de Max Jacob Dimanche 8 mars\, à 10h30 Arpentez le village à la découverte des lieux que le poète a fréquenté à Saint-Benoît-sur-Loire au début du 20e siècle : l’ancien bureau de poste\, le presbytère\, le château des Chevrières… Tarif : 6 €  (entrée Belvédère incluse) Réservation recommandée. 								\n				\n				\n					\n	\n		\n\n	\n	Ajouter au calendrier	\n		\n	\n\n		\n			\n									\n	Google Agenda\n\n									\n	iCalendar\n\n									\n	Outlook 365\n\n									\n	Outlook Live\n\n							\n		\n\n		\n	\n\n				\n				\n					\n		\n				\n			\n						\n							\n			\n		\n						\n				\n					\n\n\n				\n				\n							\n			\n		\n						\n				\n				\n					\n	\n		\n\n				Maurice et Eudes de Sully\, solognots et bâtisseurs de Notre-Dame de Paris	\n\n\n		\n	\n		[COMPLET] Conférence Le quotidien des Carolingiens
URL:https://belvedere-valdesully.fr/evenement/decouverte-de-la-petite-cite-de-carcatere/
LOCATION:Le Belvédère\, 55 rue Orléanaise\, Saint-Benoît-sur-Loire\, 45730\, France
CATEGORIES:Patrimoine,Saint-Benoît-sur-Loire,Visite guidée
ATTACH;FMTTYPE=image/jpeg:https://belvedere-valdesully.fr/wp-content/uploads/2026/01/DSCN4123-scaled.jpg
END:VEVENT
BEGIN:VEVENT
DTSTART;TZID=Europe/Paris:20260709T153000
DTEND;TZID=Europe/Paris:20260709T163000
DTSTAMP:20260422T160059
CREATED:20260114T142257Z
LAST-MODIFIED:20260221T091016Z
UID:9597-1783611000-1783614600@belvedere-valdesully.fr
SUMMARY:Visite guidée de l'abbatiale
DESCRIPTION:8 mars 2026\n\n	\n\n	  |  \n\n\n10h30\n\n		\n\n\n\n	\n	  -  \n\n12h00\n\n\n\n	\n				\n				\n				\n				\n					\n		\n		Patrimoine\, Saint-Benoît-sur-Loire\, Visite guidée	\n\n				\n				\n				\n				\n					\n	\n				\n				\n				\n							\n			\n		\n						\n				\n									Visite guidée Sur les pas de Max Jacob Dimanche 8 mars\, à 10h30 Arpentez le village à la découverte des lieux que le poète a fréquenté à Saint-Benoît-sur-Loire au début du 20e siècle : l’ancien bureau de poste\, le presbytère\, le château des Chevrières… Tarif : 6 €  (entrée Belvédère incluse) Réservation recommandée. 								\n				\n				\n					\n	\n		\n\n	\n	Ajouter au calendrier	\n		\n	\n\n		\n			\n									\n	Google Agenda\n\n									\n	iCalendar\n\n									\n	Outlook 365\n\n									\n	Outlook Live\n\n							\n		\n\n		\n	\n\n				\n				\n					\n		\n				\n			\n						\n							\n			\n		\n						\n				\n					\n\n\n				\n				\n							\n			\n		\n						\n				\n				\n					\n	\n		\n\n				Maurice et Eudes de Sully\, solognots et bâtisseurs de Notre-Dame de Paris	\n\n\n		\n	\n		[COMPLET] Conférence Le quotidien des Carolingiens
URL:https://belvedere-valdesully.fr/evenement/visite-guidee-de-labbatiale-3/
CATEGORIES:Patrimoine,Visite guidée
ATTACH;FMTTYPE=image/jpeg:https://belvedere-valdesully.fr/wp-content/uploads/2022/05/20220519_145909.jpg
END:VEVENT
BEGIN:VEVENT
DTSTART;TZID=Europe/Paris:20260712T153000
DTEND;TZID=Europe/Paris:20260712T170000
DTSTAMP:20260422T160059
CREATED:20260113T132413Z
LAST-MODIFIED:20260116T111336Z
UID:9414-1783870200-1783875600@belvedere-valdesully.fr
SUMMARY:Visite anniversaire de Max Jacob
DESCRIPTION:8 mars 2026\n\n	\n\n	  |  \n\n\n10h30\n\n		\n\n\n\n	\n	  -  \n\n12h00\n\n\n\n	\n				\n				\n				\n				\n					\n		\n		Patrimoine\, Saint-Benoît-sur-Loire\, Visite guidée	\n\n				\n				\n				\n				\n					\n	\n				\n				\n				\n							\n			\n		\n						\n				\n									Visite guidée Sur les pas de Max Jacob Dimanche 8 mars\, à 10h30 Arpentez le village à la découverte des lieux que le poète a fréquenté à Saint-Benoît-sur-Loire au début du 20e siècle : l’ancien bureau de poste\, le presbytère\, le château des Chevrières… Tarif : 6 €  (entrée Belvédère incluse) Réservation recommandée. 								\n				\n				\n					\n	\n		\n\n	\n	Ajouter au calendrier	\n		\n	\n\n		\n			\n									\n	Google Agenda\n\n									\n	iCalendar\n\n									\n	Outlook 365\n\n									\n	Outlook Live\n\n							\n		\n\n		\n	\n\n				\n				\n					\n		\n				\n			\n						\n							\n			\n		\n						\n				\n					\n\n\n				\n				\n							\n			\n		\n						\n				\n				\n					\n	\n		\n\n				Maurice et Eudes de Sully\, solognots et bâtisseurs de Notre-Dame de Paris	\n\n\n		\n	\n		[COMPLET] Conférence Le quotidien des Carolingiens
URL:https://belvedere-valdesully.fr/evenement/visite-anniversaire-de-max-jacob/
CATEGORIES:Adultes,Patrimoine,Saint-Benoît-sur-Loire,Visite Insolite
ATTACH;FMTTYPE=image/jpeg:https://belvedere-valdesully.fr/wp-content/uploads/2026/01/IMG_20240505_113706215_HDR-scaled.jpg
END:VEVENT
BEGIN:VEVENT
DTSTART;TZID=Europe/Paris:20260715T183000
DTEND;TZID=Europe/Paris:20260715T203000
DTSTAMP:20260422T160059
CREATED:20260113T133218Z
LAST-MODIFIED:20260116T111402Z
UID:9424-1784140200-1784147400@belvedere-valdesully.fr
SUMMARY:Apéro perché : La Grande Frise
DESCRIPTION:8 mars 2026\n\n	\n\n	  |  \n\n\n10h30\n\n		\n\n\n\n	\n	  -  \n\n12h00\n\n\n\n	\n				\n				\n				\n				\n					\n		\n		Patrimoine\, Saint-Benoît-sur-Loire\, Visite guidée	\n\n				\n				\n				\n				\n					\n	\n				\n				\n				\n							\n			\n		\n						\n				\n									Visite guidée Sur les pas de Max Jacob Dimanche 8 mars\, à 10h30 Arpentez le village à la découverte des lieux que le poète a fréquenté à Saint-Benoît-sur-Loire au début du 20e siècle : l’ancien bureau de poste\, le presbytère\, le château des Chevrières… Tarif : 6 €  (entrée Belvédère incluse) Réservation recommandée. 								\n				\n				\n					\n	\n		\n\n	\n	Ajouter au calendrier	\n		\n	\n\n		\n			\n									\n	Google Agenda\n\n									\n	iCalendar\n\n									\n	Outlook 365\n\n									\n	Outlook Live\n\n							\n		\n\n		\n	\n\n				\n				\n					\n		\n				\n			\n						\n							\n			\n		\n						\n				\n					\n\n\n				\n				\n							\n			\n		\n						\n				\n				\n					\n	\n		\n\n				Maurice et Eudes de Sully\, solognots et bâtisseurs de Notre-Dame de Paris	\n\n\n		\n	\n		[COMPLET] Conférence Le quotidien des Carolingiens
URL:https://belvedere-valdesully.fr/evenement/apero-perche-la-grande-frise-3/
CATEGORIES:Famille,Insolite
ATTACH;FMTTYPE=image/jpeg:https://belvedere-valdesully.fr/wp-content/uploads/2026/01/apero.jpg
END:VEVENT
BEGIN:VEVENT
DTSTART;TZID=Europe/Paris:20260716T100000
DTEND;TZID=Europe/Paris:20260716T130000
DTSTAMP:20260422T160059
CREATED:20260113T135916Z
LAST-MODIFIED:20260221T090949Z
UID:9434-1784196000-1784206800@belvedere-valdesully.fr
SUMMARY:Fabrication de nichoirs à chauve-souris
DESCRIPTION:8 mars 2026\n\n	\n\n	  |  \n\n\n10h30\n\n		\n\n\n\n	\n	  -  \n\n12h00\n\n\n\n	\n				\n				\n				\n				\n					\n		\n		Patrimoine\, Saint-Benoît-sur-Loire\, Visite guidée	\n\n				\n				\n				\n				\n					\n	\n				\n				\n				\n							\n			\n		\n						\n				\n									Visite guidée Sur les pas de Max Jacob Dimanche 8 mars\, à 10h30 Arpentez le village à la découverte des lieux que le poète a fréquenté à Saint-Benoît-sur-Loire au début du 20e siècle : l’ancien bureau de poste\, le presbytère\, le château des Chevrières… Tarif : 6 €  (entrée Belvédère incluse) Réservation recommandée. 								\n				\n				\n					\n	\n		\n\n	\n	Ajouter au calendrier	\n		\n	\n\n		\n			\n									\n	Google Agenda\n\n									\n	iCalendar\n\n									\n	Outlook 365\n\n									\n	Outlook Live\n\n							\n		\n\n		\n	\n\n				\n				\n					\n		\n				\n			\n						\n							\n			\n		\n						\n				\n					\n\n\n				\n				\n							\n			\n		\n						\n				\n				\n					\n	\n		\n\n				Maurice et Eudes de Sully\, solognots et bâtisseurs de Notre-Dame de Paris	\n\n\n		\n	\n		[COMPLET] Conférence Le quotidien des Carolingiens
URL:https://belvedere-valdesully.fr/evenement/fabrication-de-nichoirs-a-chauve-souris-2/
CATEGORIES:Atelier,Famille,Place aux Étoiles !
ATTACH;FMTTYPE=image/jpeg:https://belvedere-valdesully.fr/wp-content/uploads/2026/01/nichoir-chauve-souris.jpg
END:VEVENT
BEGIN:VEVENT
DTSTART;VALUE=DATE:20260721
DTEND;VALUE=DATE:20260723
DTSTAMP:20260422T160059
CREATED:20260113T142350Z
LAST-MODIFIED:20260221T090932Z
UID:9442-1784592000-1784764799@belvedere-valdesully.fr
SUMMARY:Atelier Crankie-Box\, les animaux de la nuit
DESCRIPTION:8 mars 2026\n\n	\n\n	  |  \n\n\n10h30\n\n		\n\n\n\n	\n	  -  \n\n12h00\n\n\n\n	\n				\n				\n				\n				\n					\n		\n		Patrimoine\, Saint-Benoît-sur-Loire\, Visite guidée	\n\n				\n				\n				\n				\n					\n	\n				\n				\n				\n							\n			\n		\n						\n				\n									Visite guidée Sur les pas de Max Jacob Dimanche 8 mars\, à 10h30 Arpentez le village à la découverte des lieux que le poète a fréquenté à Saint-Benoît-sur-Loire au début du 20e siècle : l’ancien bureau de poste\, le presbytère\, le château des Chevrières… Tarif : 6 €  (entrée Belvédère incluse) Réservation recommandée. 								\n				\n				\n					\n	\n		\n\n	\n	Ajouter au calendrier	\n		\n	\n\n		\n			\n									\n	Google Agenda\n\n									\n	iCalendar\n\n									\n	Outlook 365\n\n									\n	Outlook Live\n\n							\n		\n\n		\n	\n\n				\n				\n					\n		\n				\n			\n						\n							\n			\n		\n						\n				\n					\n\n\n				\n				\n							\n			\n		\n						\n				\n				\n					\n	\n		\n\n				Maurice et Eudes de Sully\, solognots et bâtisseurs de Notre-Dame de Paris	\n\n\n		\n	\n		[COMPLET] Conférence Le quotidien des Carolingiens
URL:https://belvedere-valdesully.fr/evenement/atelier-crankie-box-les-animaux-de-la-nuit/
CATEGORIES:Atelier,Famille,Place aux Étoiles !
ATTACH;FMTTYPE=image/jpeg:https://belvedere-valdesully.fr/wp-content/uploads/2026/01/crankie-box.jpg
END:VEVENT
BEGIN:VEVENT
DTSTART;TZID=Europe/Paris:20260725T180000
DTEND;TZID=Europe/Paris:20260726T010000
DTSTAMP:20260422T160059
CREATED:20260113T155552Z
LAST-MODIFIED:20260113T155812Z
UID:9451-1785002400-1785027600@belvedere-valdesully.fr
SUMMARY:Place aux Étoiles !
DESCRIPTION:8 mars 2026\n\n	\n\n	  |  \n\n\n10h30\n\n		\n\n\n\n	\n	  -  \n\n12h00\n\n\n\n	\n				\n				\n				\n				\n					\n		\n		Patrimoine\, Saint-Benoît-sur-Loire\, Visite guidée	\n\n				\n				\n				\n				\n					\n	\n				\n				\n				\n							\n			\n		\n						\n				\n									Visite guidée Sur les pas de Max Jacob Dimanche 8 mars\, à 10h30 Arpentez le village à la découverte des lieux que le poète a fréquenté à Saint-Benoît-sur-Loire au début du 20e siècle : l’ancien bureau de poste\, le presbytère\, le château des Chevrières… Tarif : 6 €  (entrée Belvédère incluse) Réservation recommandée. 								\n				\n				\n					\n	\n		\n\n	\n	Ajouter au calendrier	\n		\n	\n\n		\n			\n									\n	Google Agenda\n\n									\n	iCalendar\n\n									\n	Outlook 365\n\n									\n	Outlook Live\n\n							\n		\n\n		\n	\n\n				\n				\n					\n		\n				\n			\n						\n							\n			\n		\n						\n				\n					\n\n\n				\n				\n							\n			\n		\n						\n				\n				\n					\n	\n		\n\n				Maurice et Eudes de Sully\, solognots et bâtisseurs de Notre-Dame de Paris	\n\n\n		\n	\n		[COMPLET] Conférence Le quotidien des Carolingiens
URL:https://belvedere-valdesully.fr/evenement/place-aux-etoiles-2/
CATEGORIES:Événement,Place aux Étoiles !
ATTACH;FMTTYPE=image/jpeg:https://belvedere-valdesully.fr/wp-content/uploads/2026/01/31-Picto-Facto-@bangkok-NZ1.jpg
END:VEVENT
END:VCALENDAR