BEGIN:VCALENDAR
VERSION:2.0
PRODID:-//Le Belvédère de Saint-Benoît-sur-Loire - ECPv6.15.20//NONSGML v1.0//EN
CALSCALE:GREGORIAN
METHOD:PUBLISH
X-WR-CALNAME:Le Belvédère de Saint-Benoît-sur-Loire
X-ORIGINAL-URL:https://belvedere-valdesully.fr
X-WR-CALDESC:Évènements pour Le Belvédère de Saint-Benoît-sur-Loire
REFRESH-INTERVAL;VALUE=DURATION:PT1H
X-Robots-Tag:noindex
X-PUBLISHED-TTL:PT1H
BEGIN:VTIMEZONE
TZID:Europe/Paris
BEGIN:DAYLIGHT
TZOFFSETFROM:+0100
TZOFFSETTO:+0200
TZNAME:CEST
DTSTART:20250330T010000
END:DAYLIGHT
BEGIN:STANDARD
TZOFFSETFROM:+0200
TZOFFSETTO:+0100
TZNAME:CET
DTSTART:20251026T010000
END:STANDARD
BEGIN:DAYLIGHT
TZOFFSETFROM:+0100
TZOFFSETTO:+0200
TZNAME:CEST
DTSTART:20260329T010000
END:DAYLIGHT
BEGIN:STANDARD
TZOFFSETFROM:+0200
TZOFFSETTO:+0100
TZNAME:CET
DTSTART:20261025T010000
END:STANDARD
BEGIN:DAYLIGHT
TZOFFSETFROM:+0100
TZOFFSETTO:+0200
TZNAME:CEST
DTSTART:20270328T010000
END:DAYLIGHT
BEGIN:STANDARD
TZOFFSETFROM:+0200
TZOFFSETTO:+0100
TZNAME:CET
DTSTART:20271031T010000
END:STANDARD
END:VTIMEZONE
BEGIN:VEVENT
DTSTART;VALUE=DATE:20260721
DTEND;VALUE=DATE:20260723
DTSTAMP:20260422T172956
CREATED:20260113T142350Z
LAST-MODIFIED:20260221T090932Z
UID:9442-1784592000-1784764799@belvedere-valdesully.fr
SUMMARY:Atelier Crankie-Box\, les animaux de la nuit
DESCRIPTION:8 mars 2026\n\n	\n\n	  |  \n\n\n10h30\n\n		\n\n\n\n	\n	  -  \n\n12h00\n\n\n\n	\n				\n				\n				\n				\n					\n		\n		Patrimoine\, Saint-Benoît-sur-Loire\, Visite guidée	\n\n				\n				\n				\n				\n					\n	\n				\n				\n				\n							\n			\n		\n						\n				\n									Visite guidée Sur les pas de Max Jacob Dimanche 8 mars\, à 10h30 Arpentez le village à la découverte des lieux que le poète a fréquenté à Saint-Benoît-sur-Loire au début du 20e siècle : l’ancien bureau de poste\, le presbytère\, le château des Chevrières… Tarif : 6 €  (entrée Belvédère incluse) Réservation recommandée. 								\n				\n				\n					\n	\n		\n\n	\n	Ajouter au calendrier	\n		\n	\n\n		\n			\n									\n	Google Agenda\n\n									\n	iCalendar\n\n									\n	Outlook 365\n\n									\n	Outlook Live\n\n							\n		\n\n		\n	\n\n				\n				\n					\n		\n				\n			\n						\n							\n			\n		\n						\n				\n					\n\n\n				\n				\n							\n			\n		\n						\n				\n				\n					\n	\n		\n\n				Maurice et Eudes de Sully\, solognots et bâtisseurs de Notre-Dame de Paris	\n\n\n		\n	\n		[COMPLET] Conférence Le quotidien des Carolingiens
URL:https://belvedere-valdesully.fr/evenement/atelier-crankie-box-les-animaux-de-la-nuit/
CATEGORIES:Atelier,Famille,Place aux Étoiles !
ATTACH;FMTTYPE=image/jpeg:https://belvedere-valdesully.fr/wp-content/uploads/2026/01/crankie-box.jpg
END:VEVENT
END:VCALENDAR