BEGIN:VCALENDAR
VERSION:2.0
PRODID:-//Le Belvédère de Saint-Benoît-sur-Loire - ECPv6.15.20//NONSGML v1.0//EN
CALSCALE:GREGORIAN
METHOD:PUBLISH
X-WR-CALNAME:Le Belvédère de Saint-Benoît-sur-Loire
X-ORIGINAL-URL:https://belvedere-valdesully.fr
X-WR-CALDESC:Évènements pour Le Belvédère de Saint-Benoît-sur-Loire
REFRESH-INTERVAL;VALUE=DURATION:PT1H
X-Robots-Tag:noindex
X-PUBLISHED-TTL:PT1H
BEGIN:VTIMEZONE
TZID:Europe/Paris
BEGIN:DAYLIGHT
TZOFFSETFROM:+0100
TZOFFSETTO:+0200
TZNAME:CEST
DTSTART:20250330T010000
END:DAYLIGHT
BEGIN:STANDARD
TZOFFSETFROM:+0200
TZOFFSETTO:+0100
TZNAME:CET
DTSTART:20251026T010000
END:STANDARD
BEGIN:DAYLIGHT
TZOFFSETFROM:+0100
TZOFFSETTO:+0200
TZNAME:CEST
DTSTART:20260329T010000
END:DAYLIGHT
BEGIN:STANDARD
TZOFFSETFROM:+0200
TZOFFSETTO:+0100
TZNAME:CET
DTSTART:20261025T010000
END:STANDARD
BEGIN:DAYLIGHT
TZOFFSETFROM:+0100
TZOFFSETTO:+0200
TZNAME:CEST
DTSTART:20270328T010000
END:DAYLIGHT
BEGIN:STANDARD
TZOFFSETFROM:+0200
TZOFFSETTO:+0100
TZNAME:CET
DTSTART:20271031T010000
END:STANDARD
END:VTIMEZONE
BEGIN:VEVENT
DTSTART;VALUE=DATE:20260614
DTEND;VALUE=DATE:20260720
DTSTAMP:20260422T155955
CREATED:20260112T163029Z
LAST-MODIFIED:20260112T163152Z
UID:9356-1781395200-1784505599@belvedere-valdesully.fr
SUMMARY:Exposition temporaire Regards croisés\, du Val de Sully à Orléans
DESCRIPTION:8 mars 2026\n\n	\n\n	  |  \n\n\n10h30\n\n		\n\n\n\n	\n	  -  \n\n12h00\n\n\n\n	\n				\n				\n				\n				\n					\n		\n		Patrimoine\, Saint-Benoît-sur-Loire\, Visite guidée	\n\n				\n				\n				\n				\n					\n	\n				\n				\n				\n							\n			\n		\n						\n				\n									Visite guidée Sur les pas de Max Jacob Dimanche 8 mars\, à 10h30 Arpentez le village à la découverte des lieux que le poète a fréquenté à Saint-Benoît-sur-Loire au début du 20e siècle : l’ancien bureau de poste\, le presbytère\, le château des Chevrières… Tarif : 6 €  (entrée Belvédère incluse) Réservation recommandée. 								\n				\n				\n					\n	\n		\n\n	\n	Ajouter au calendrier	\n		\n	\n\n		\n			\n									\n	Google Agenda\n\n									\n	iCalendar\n\n									\n	Outlook 365\n\n									\n	Outlook Live\n\n							\n		\n\n		\n	\n\n				\n				\n					\n		\n				\n			\n						\n							\n			\n		\n						\n				\n					\n\n\n				\n				\n							\n			\n		\n						\n				\n				\n					\n	\n		\n\n				Maurice et Eudes de Sully\, solognots et bâtisseurs de Notre-Dame de Paris	\n\n\n		\n	\n		[COMPLET] Conférence Le quotidien des Carolingiens
URL:https://belvedere-valdesully.fr/evenement/exposition-temporaire-regards-croises-du-val-de-sully-a-orleans/
CATEGORIES:Exposition,Patrimoine
ATTACH;FMTTYPE=image/jpeg:https://belvedere-valdesully.fr/wp-content/uploads/2026/01/IMG-20251126-WA0003.jpg
END:VEVENT
BEGIN:VEVENT
DTSTART;TZID=Europe/Paris:20260614T100000
DTEND;TZID=Europe/Paris:20260614T180000
DTSTAMP:20260422T155955
CREATED:20260114T112027Z
LAST-MODIFIED:20260114T112208Z
UID:9528-1781431200-1781460000@belvedere-valdesully.fr
SUMMARY:Journée Européenne de l'Archéologie
DESCRIPTION:8 mars 2026\n\n	\n\n	  |  \n\n\n10h30\n\n		\n\n\n\n	\n	  -  \n\n12h00\n\n\n\n	\n				\n				\n				\n				\n					\n		\n		Patrimoine\, Saint-Benoît-sur-Loire\, Visite guidée	\n\n				\n				\n				\n				\n					\n	\n				\n				\n				\n							\n			\n		\n						\n				\n									Visite guidée Sur les pas de Max Jacob Dimanche 8 mars\, à 10h30 Arpentez le village à la découverte des lieux que le poète a fréquenté à Saint-Benoît-sur-Loire au début du 20e siècle : l’ancien bureau de poste\, le presbytère\, le château des Chevrières… Tarif : 6 €  (entrée Belvédère incluse) Réservation recommandée. 								\n				\n				\n					\n	\n		\n\n	\n	Ajouter au calendrier	\n		\n	\n\n		\n			\n									\n	Google Agenda\n\n									\n	iCalendar\n\n									\n	Outlook 365\n\n									\n	Outlook Live\n\n							\n		\n\n		\n	\n\n				\n				\n					\n		\n				\n			\n						\n							\n			\n		\n						\n				\n					\n\n\n				\n				\n							\n			\n		\n						\n				\n				\n					\n	\n		\n\n				Maurice et Eudes de Sully\, solognots et bâtisseurs de Notre-Dame de Paris	\n\n\n		\n	\n		[COMPLET] Conférence Le quotidien des Carolingiens
URL:https://belvedere-valdesully.fr/evenement/journee-de-larcheologie/
CATEGORIES:Atelier,Conférence,Événement,Visite guidée
ATTACH;FMTTYPE=image/jpeg:https://belvedere-valdesully.fr/wp-content/uploads/2024/01/20230618_111148.jpg
END:VEVENT
BEGIN:VEVENT
DTSTART;TZID=Europe/Paris:20260614T143000
DTEND;TZID=Europe/Paris:20260614T160000
DTSTAMP:20260422T155955
CREATED:20260112T155642Z
LAST-MODIFIED:20260221T091350Z
UID:9338-1781447400-1781452800@belvedere-valdesully.fr
SUMMARY:Conférence Ni chasseuse de trésor\, ni Lara Croft… mais spécialiste des objets à l’Inrap !
DESCRIPTION:8 mars 2026\n\n	\n\n	  |  \n\n\n10h30\n\n		\n\n\n\n	\n	  -  \n\n12h00\n\n\n\n	\n				\n				\n				\n				\n					\n		\n		Patrimoine\, Saint-Benoît-sur-Loire\, Visite guidée	\n\n				\n				\n				\n				\n					\n	\n				\n				\n				\n							\n			\n		\n						\n				\n									Visite guidée Sur les pas de Max Jacob Dimanche 8 mars\, à 10h30 Arpentez le village à la découverte des lieux que le poète a fréquenté à Saint-Benoît-sur-Loire au début du 20e siècle : l’ancien bureau de poste\, le presbytère\, le château des Chevrières… Tarif : 6 €  (entrée Belvédère incluse) Réservation recommandée. 								\n				\n				\n					\n	\n		\n\n	\n	Ajouter au calendrier	\n		\n	\n\n		\n			\n									\n	Google Agenda\n\n									\n	iCalendar\n\n									\n	Outlook 365\n\n									\n	Outlook Live\n\n							\n		\n\n		\n	\n\n				\n				\n					\n		\n				\n			\n						\n							\n			\n		\n						\n				\n					\n\n\n				\n				\n							\n			\n		\n						\n				\n				\n					\n	\n		\n\n				Maurice et Eudes de Sully\, solognots et bâtisseurs de Notre-Dame de Paris	\n\n\n		\n	\n		[COMPLET] Conférence Le quotidien des Carolingiens
URL:https://belvedere-valdesully.fr/evenement/conference-ni-chasseuse-de-tresor-ni-lara-croft-mais-specialiste-des-objets-a-linrap/
CATEGORIES:Adultes,Conférence,Événement,Jeune public
ATTACH;FMTTYPE=image/jpeg:https://belvedere-valdesully.fr/wp-content/uploads/2026/01/thumbnail_F228_red.jpg
END:VEVENT
BEGIN:VEVENT
DTSTART;TZID=Europe/Paris:20260614T160000
DTEND;TZID=Europe/Paris:20260614T180000
DTSTAMP:20260422T155955
CREATED:20260112T161015Z
LAST-MODIFIED:20260311T155942Z
UID:9347-1781452800-1781460000@belvedere-valdesully.fr
SUMMARY:Visite guidée Quand Fleury brûlait : l’incendie de 1026
DESCRIPTION:8 mars 2026\n\n	\n\n	  |  \n\n\n10h30\n\n		\n\n\n\n	\n	  -  \n\n12h00\n\n\n\n	\n				\n				\n				\n				\n					\n		\n		Patrimoine\, Saint-Benoît-sur-Loire\, Visite guidée	\n\n				\n				\n				\n				\n					\n	\n				\n				\n				\n							\n			\n		\n						\n				\n									Visite guidée Sur les pas de Max Jacob Dimanche 8 mars\, à 10h30 Arpentez le village à la découverte des lieux que le poète a fréquenté à Saint-Benoît-sur-Loire au début du 20e siècle : l’ancien bureau de poste\, le presbytère\, le château des Chevrières… Tarif : 6 €  (entrée Belvédère incluse) Réservation recommandée. 								\n				\n				\n					\n	\n		\n\n	\n	Ajouter au calendrier	\n		\n	\n\n		\n			\n									\n	Google Agenda\n\n									\n	iCalendar\n\n									\n	Outlook 365\n\n									\n	Outlook Live\n\n							\n		\n\n		\n	\n\n				\n				\n					\n		\n				\n			\n						\n							\n			\n		\n						\n				\n					\n\n\n				\n				\n							\n			\n		\n						\n				\n				\n					\n	\n		\n\n				Maurice et Eudes de Sully\, solognots et bâtisseurs de Notre-Dame de Paris	\n\n\n		\n	\n		[COMPLET] Conférence Le quotidien des Carolingiens
URL:https://belvedere-valdesully.fr/evenement/visite-guidee-quand-fleury-brulait-lincendie-de-1026/
CATEGORIES:Événement,Patrimoine,Saint-Benoît-sur-Loire,Visite Insolite
ATTACH;FMTTYPE=image/jpeg:https://belvedere-valdesully.fr/wp-content/uploads/2026/01/fosse-carolingienne.jpg
END:VEVENT
END:VCALENDAR